BEGIN:VCALENDAR
VERSION:2.0
PRODID:-//Explore France - ECPv6.15.20//NONSGML v1.0//EN
CALSCALE:GREGORIAN
METHOD:PUBLISH
X-WR-CALNAME:Explore France
X-ORIGINAL-URL:https://explorafrancia.mx
X-WR-CALDESC:Eventos para Explore France
REFRESH-INTERVAL;VALUE=DURATION:PT1H
X-Robots-Tag:noindex
X-PUBLISHED-TTL:PT1H
BEGIN:VTIMEZONE
TZID:America/Mexico_City
BEGIN:STANDARD
TZOFFSETFROM:-0600
TZOFFSETTO:-0600
TZNAME:CST
DTSTART:20240101T000000
END:STANDARD
END:VTIMEZONE
BEGIN:VEVENT
DTSTART;VALUE=DATE:20251022
DTEND;VALUE=DATE:20260427
DTSTAMP:20260423T092359
CREATED:20251006T210527Z
LAST-MODIFIED:20251203T222732Z
UID:5358-1761091200-1777247999@explorafrancia.mx
SUMMARY:1925-2025: cien años de Art Déco
DESCRIPTION:Un siglo después de la Exposition Internationale des Arts Décoratifs et Industriels Modernes en París\, que impulsó al Art Déco en el escenario mundial\, el Museo de Artes Decorativos de París celebrará\, del 22 de octubre de 2025 al 26 de abril de 2026\, este estilo audaz\, refinado y vanguardista. \nEl Art Déco encarna un período prolífico\, marcado por la sed de novedad\, velocidad y libertad que impactó a todos los ámbitos de la creación: moda\, joyería\, artes gráficas\, arquitectura\, interiorismo\, transporte\, etc…\nLa exposición vuelve a las diferentes tendencias del Art Decó. Muebles escultóricos\, joyas preciosas\, obras de arte\, dibujos\, carteles y piezas: cerca de 1.000 obras contarán la historia de un estilo que sigue fascinando. \nUna cabina del antiguo tren Étoile du Nord\, del mítico Orient Express\, inaugurará la retrospectiva\, así como tres modelos del futuro Orient Express\, reinventado por Maxime d’Angeac. \n 
URL:https://explorafrancia.mx/event/1925-2025-cien-anos-de-art-deco/
LOCATION:Paris\, París\, France
CATEGORIES:Arte y Cultura
ATTACH;FMTTYPE=image/png:https://explorafrancia.mx/wp-content/uploads/2025/10/1925-2025.png
END:VEVENT
BEGIN:VEVENT
DTSTART;VALUE=DATE:20260321
DTEND;VALUE=DATE:20260329
DTSTAMP:20260423T092359
CREATED:20250729T221900Z
LAST-MODIFIED:20250805T165805Z
UID:4869-1774051200-1774742399@explorafrancia.mx
SUMMARY:Tomorrowland Winter
DESCRIPTION:Tomorrowland es un festival de música electrónica considerado como el más grande del mundo en su estilo\, celebrado anualmente en verano desde el 2005 en Bélgica. Dado su éxito\, nuevas versiones fueron creadas entre las cuales Tomorrowland Winter que se llevó a cabo por primera vez en el 2029 en las altas montañas de Francia Alpe d’Huez.
URL:https://explorafrancia.mx/event/tomorrowland-winter/
CATEGORIES:Arte y Cultura,Música
ATTACH;FMTTYPE=image/png:https://explorafrancia.mx/wp-content/uploads/2025/07/Tomorrowland-Winter.png
END:VEVENT
BEGIN:VEVENT
DTSTART;VALUE=DATE:20260327
DTEND;VALUE=DATE:20260331
DTSTAMP:20260423T092359
CREATED:20250729T222731Z
LAST-MODIFIED:20250805T165846Z
UID:4872-1774569600-1774915199@explorafrancia.mx
SUMMARY:Feria Internacional del Queso y del Vino
DESCRIPTION:La Feria Internacional del Queso y del Vino se celebra cada año a finales de marzo desde 1967. Esta feria agrícola presenta las especialidades regionales de queso y vino. Alrededor de 350 expositores y artesanos se instalan frente a la azucarera. \nMás de 60.000 gastrónomos acuden a disfrutar de cuatro días de fiesta\, degustaciones de productos locales y espectáculos de todo tipo. Se organiza una gran exposición de ganado en un ambiente acogedor. La feria organiza también numerosos concursos\, entre ellos el de Brie de Coulommiers y el de productos lácteos frescos de granja\, sin olvidar el muy popular “¿Cuánto pesa la vaca Marguerite?”\, abierto al público.
URL:https://explorafrancia.mx/event/feria-internacional-del-queso-y-del-vino/
CATEGORIES:Feria,Gastronomía y enología
ATTACH;FMTTYPE=image/png:https://explorafrancia.mx/wp-content/uploads/2025/07/FERIA-INTERNACIONAL-DEL-QUESO-Y-DEL-VINO.png
END:VEVENT
END:VCALENDAR