BEGIN:VCALENDAR
VERSION:2.0
PRODID:-//Explore France - ECPv6.15.20//NONSGML v1.0//EN
CALSCALE:GREGORIAN
METHOD:PUBLISH
X-WR-CALNAME:Explore France
X-ORIGINAL-URL:https://explorafrancia.mx
X-WR-CALDESC:Eventos para Explore France
REFRESH-INTERVAL;VALUE=DURATION:PT1H
X-Robots-Tag:noindex
X-PUBLISHED-TTL:PT1H
BEGIN:VTIMEZONE
TZID:America/Mexico_City
BEGIN:STANDARD
TZOFFSETFROM:-0600
TZOFFSETTO:-0600
TZNAME:CST
DTSTART:20240101T000000
END:STANDARD
END:VTIMEZONE
BEGIN:VEVENT
DTSTART;VALUE=DATE:20251113
DTEND;VALUE=DATE:20251229
DTSTAMP:20260423T153559
CREATED:20251201T161957Z
LAST-MODIFIED:20251202T144938Z
UID:5890-1762992000-1766966399@explorafrancia.mx
SUMMARY:Mercado Navideño de Paris la Défense
DESCRIPTION:En su nueva y 30° edición\, Paris La Défense acoge una vez más el mercado navideño más grande de Île-de-France. \nEl Gran Arco invita a descubrir más de 300 chalets en un entorno único. Desde creaciones artesanales y objetos decorativos hasta delicias culinarias\, ¡hay para todos los gustos!\n \nEl programa cuenta con numerosas actividades que encantarán a grandes y pequeños: desfiles de personajes iluminados\, eventos sociales y benéficos\, talleres creativos\, encuentros con Santa Claus\, carruseles\, fiestas afterwork con sesiones de DJ. \nLa gran pista de hielo del mercado navideño regresa este año con 100 m² adicionales de hielo natural\, en un ambiente mágico. \nHorarios del mercado navideño: \n\nDe lunes a miercoles: 11H00 – 20H30\nJueves: 11H00 – 22H00\nViernes: 11H00 – 23H00\nSábado: 10H00 – 23H00\nDomingo: 11H00 – 20H30
URL:https://explorafrancia.mx/event/mercado-navideno-de-paris-la-defense/
LOCATION:Paris la Défense\, Puteaux\, 92800\, France
CATEGORIES:Navidad
ATTACH;FMTTYPE=image/webp:https://explorafrancia.mx/wp-content/uploads/2025/12/Noel-a-la-Defense.webp
END:VEVENT
BEGIN:VEVENT
DTSTART;VALUE=DATE:20251115
DTEND;VALUE=DATE:20260105
DTSTAMP:20260423T153559
CREATED:20251201T194943Z
LAST-MODIFIED:20251201T215834Z
UID:5907-1763164800-1767571199@explorafrancia.mx
SUMMARY:La Gran Navidad en Vaux-le-Vicomte
DESCRIPTION:Este 2025\, regresa la Gran Navidad en el Castillo de Vaux-le-Vicomte con la temática de “la Casa de los sueños”.  \nMientras la sublime decoración que despertará grandes emociones durante todo el recorrido del castillo\, las actividades permitirán crear recuerdos fabulosos para cada miembro de la familia.\n\nTalleres creativos para niños\, cuentos y leyendas contados junto a la chimenea\, conciertos de música clásica o villancicos\, la búsqueda del tesoro\, las degustaciones de delicias gourmet\, el gran espectáculo de fuegos artificiales\, la pista de hielo… Visitar el Castillo de Vaux-le-Vicomte es la oportunidad de vivir un cuento de hadas\na solo 55 km de París.  \nHorarios:\nDel 15 de noviembre al 21 de diciembre: del miércoles al domingo\, 10h30 – 18h30.\nDel 22 de diciembre al 4 de diciembre: todos los días\, 10h30 – 18h30\,\nlos 24 y 31 de diciembre\, 10h30 – 16h00.\nCerrado el 25 de diciembre y 1° de enero. \n© Collectif Image Melun
URL:https://explorafrancia.mx/event/la-gran-navidad-en-vaux-le-vicomte/
LOCATION:Castillo de Vaux-le-Vicomte\, Maincy\, 77950\, France
CATEGORIES:Navidad
ATTACH;FMTTYPE=image/png:https://explorafrancia.mx/wp-content/uploads/2025/12/Captura-de-pantalla-2025-12-01-134535.png
END:VEVENT
END:VCALENDAR