BEGIN:VCALENDAR
VERSION:2.0
PRODID:-//Explore France - ECPv6.15.20//NONSGML v1.0//EN
CALSCALE:GREGORIAN
METHOD:PUBLISH
X-WR-CALNAME:Explore France
X-ORIGINAL-URL:https://explorafrancia.mx
X-WR-CALDESC:Eventos para Explore France
REFRESH-INTERVAL;VALUE=DURATION:PT1H
X-Robots-Tag:noindex
X-PUBLISHED-TTL:PT1H
BEGIN:VTIMEZONE
TZID:America/Mexico_City
BEGIN:STANDARD
TZOFFSETFROM:-0600
TZOFFSETTO:-0600
TZNAME:CST
DTSTART:20240101T000000
END:STANDARD
END:VTIMEZONE
BEGIN:VEVENT
DTSTART;VALUE=DATE:20251029
DTEND;VALUE=DATE:20251103
DTSTAMP:20260423T094102
CREATED:20250624T173552Z
LAST-MODIFIED:20250805T155041Z
UID:4536-1761696000-1762127999@explorafrancia.mx
SUMMARY:Salón del chocolate
DESCRIPTION:Del 29 de octubre al 2 de noviembre de 2025\, el salón del chocolate regresa en el parque de exposiciones más grande de Europa\, Puerta de Versalles.  \nUn encuentro entre profesionales y amantes del chocolate.\nChefs\, chocolateros\, pasteleros\, profesionales de la industria del chocolate\, países productores… se reúnen cada año para presentar al público las riquezas del chocolate.
URL:https://explorafrancia.mx/event/salon-del-chocolate/
LOCATION:Porte de Versailles\, 1 place de la Porte de Versailles\, Paris\, 75015
CATEGORIES:Feria,Gastronomía y enología
ATTACH;FMTTYPE=image/png:https://explorafrancia.mx/wp-content/uploads/2025/02/Captura-de-pantalla-2025-02-04-134107.png
END:VEVENT
BEGIN:VEVENT
DTSTART;VALUE=DATE:20251024
DTEND;VALUE=DATE:20251027
DTSTAMP:20260423T094102
CREATED:20250925T212006Z
LAST-MODIFIED:20250925T212322Z
UID:5351-1761264000-1761523199@explorafrancia.mx
SUMMARY:Art Basel Paris
DESCRIPTION:Art Basel Paris 2025 se celebrará en el Grand Palais del 24 al 26 de octubre de 2025\, con días previos VIP el 22 y 23 de octubre. La exposición contará con 206 galerías\, tanto francesas como internacionales\, que presentarán obras de arte moderno y contemporáneo a través de tres sectores principales.\nSectores: \n\n\n\n\n\nGaleries: Presenta el programa completo de los expositores. \n\n\n\n\nEmergence: Dedicado a galerías y artistas emergentes. \n\n\n\n\nPremise: Propone proyectos curatoriales singulares. \n\n\n\n\n\nTambién habrá un programa de conversaciones\, que se llevará a cabo en el Petit Palais del 23 al 25 de octubre. \n© Courtesy of Art Basel
URL:https://explorafrancia.mx/event/art-basel-paris/
LOCATION:Le Grand Palais\, 3 avenue du Général Eisenhower\, Paris\, 75008\, France
CATEGORIES:Arte y Cultura,Feria
ATTACH;FMTTYPE=image/png:https://explorafrancia.mx/wp-content/uploads/2025/09/Agenda_Art-Basel-25.png
END:VEVENT
BEGIN:VEVENT
DTSTART;VALUE=DATE:20251018
DTEND;VALUE=DATE:20251020
DTSTAMP:20260423T094102
CREATED:20250805T153225Z
LAST-MODIFIED:20250805T170639Z
UID:4884-1760745600-1760918399@explorafrancia.mx
SUMMARY:Jornadas Nacionales de Arquitectura
DESCRIPTION:El sábado 18 y el domingo 19 de octubre de 2025 se celebrarán las décimas Jornadas Nacionales de Arquitectura para contribuir al descubrimiento de la arquitectura y sus oficios entre todos los públicos.\nEl tema de 2025 “Arquitecturas de la vida cotidiana” se centra en los logros que a menudo se perciben como “banales” pero que\, sin embargo\, dan forma a nuestra vida cotidiana y al entorno vital de cada uno de nosotros. \nEn todo el país se organizará encuentros y debates con actores arquitectónicos\, visitas a agencias de arquitectura y obras\, paseos urbanos\, jornadas de puertas abiertas\, exposiciones\, proyecciones de películas y talleres para el público joven.
URL:https://explorafrancia.mx/event/jornadas-nacionales-de-arquitectura/
CATEGORIES:Arquitectura,Patrimonio
ATTACH;FMTTYPE=image/png:https://explorafrancia.mx/wp-content/uploads/2025/08/JNA_25-e1754407870132.png
END:VEVENT
BEGIN:VEVENT
DTSTART;VALUE=DATE:20251017
DTEND;VALUE=DATE:20251020
DTSTAMP:20260423T094102
CREATED:20251016T195438Z
LAST-MODIFIED:20251016T195643Z
UID:5481-1760659200-1760918399@explorafrancia.mx
SUMMARY:Vignobles en Scène
DESCRIPTION:Vignobles en Scène 2025 es un evento nacional de enoturismo.\nSe celebrará este año del 17 al 19 de octubre de 2025 en más de 70 destinos de viñedos de Francia. El evento ofrece degustaciones\, paseos por los viñedos\, talleres\, y banquetes en lugares emblemáticos para celebrar la riqueza del patrimonio vitivinícola francés. \nParticiparán destinos que poseen la etiqueta Vignobles & Découvertes. 
URL:https://explorafrancia.mx/event/vignobles-en-scene/
CATEGORIES:Actividades al aire libre,Gastronomía y enología
ATTACH;FMTTYPE=image/png:https://explorafrancia.mx/wp-content/uploads/2025/10/vignes_benais_pique-niquel_credit_adt_touraine_jc_coutand_2034-mini.png
END:VEVENT
BEGIN:VEVENT
DTSTART;VALUE=DATE:20251015
DTEND;VALUE=DATE:20251016
DTSTAMP:20260423T094102
CREATED:20251016T202814Z
LAST-MODIFIED:20251016T202814Z
UID:5487-1760486400-1760572799@explorafrancia.mx
SUMMARY:Vin et Hip Hop
DESCRIPTION:Vin et hip-hop es una celebración cruzada que combina el vino y la cultura hip-hop a través de la música\, la comida\, el arte\, la moda y la danza.\nFundado en 2022 con el objetivo de organizar una cata para celebrar el final de la vendimia\, al ritmo de sesiones de DJ Hip-Hop y actuaciones de artistas\, el festival se celebra desde hace tres años en Borgoña en octubre en el mítico Château du Clos de Vougeot e inaugurará su primera edición de Champagne en junio de 2025. \n\nLa degustación presenta jóvenes talentos\, así como fincas históricas. Artistas de renombre internacional brindan el espectáculo en una mezcla de modernidad\, tradición\, para y con la comunidad local. \nVin et hip-hop es creado y organizado por Hautes Côtes\, una empresa de eventos con sede en Borgoña. Jermaine Stone\, también conocido como el verdadero lobo del vino\, es el maestro de ceremonias y colaborador de la fiesta.
URL:https://explorafrancia.mx/event/vin-et-hip-hop/
LOCATION:Château du Clos de Vougeot\, Rue de la Montagne\, Vougeot\, Bourgogne\, 21640\, France
CATEGORIES:Gastronomía y enología,Moda,Música
ATTACH;FMTTYPE=image/png:https://explorafrancia.mx/wp-content/uploads/2025/10/image.png
END:VEVENT
BEGIN:VEVENT
DTSTART;VALUE=DATE:20250929
DTEND;VALUE=DATE:20251008
DTSTAMP:20260423T094102
CREATED:20250925T210057Z
LAST-MODIFIED:20250925T210057Z
UID:5347-1759104000-1759881599@explorafrancia.mx
SUMMARY:Paris Fashion Week
DESCRIPTION:Cita clave para conocer las próximas tendencias\, con desfiles de moda y presentaciones en lugares prestigiosos de la ciudad\, la Semana de la Moda de Paris o la Paris Fashion Week regresa para celebrar la moda femenina del 29 de septiembre al 7 de octubre de 2025.
URL:https://explorafrancia.mx/event/paris-fashion-week/
LOCATION:Paris\, París\, France
CATEGORIES:Moda
ATTACH;FMTTYPE=image/png:https://explorafrancia.mx/wp-content/uploads/2025/09/Agenda_PFW.png
END:VEVENT
BEGIN:VEVENT
DTSTART;VALUE=DATE:20250926
DTEND;VALUE=DATE:20250929
DTSTAMP:20260423T094102
CREATED:20251007T162305Z
LAST-MODIFIED:20251007T162305Z
UID:5013-1758844800-1759103999@explorafrancia.mx
SUMMARY:Paris Rooftop Days
DESCRIPTION:Después del éxito de la primera edición en 2023\, los Paris Rooftop Days (PRD) vuelven en 2025\, del 26 al 28 de septiembre\, para una nueva edición más ambiciosa\, animada y comprometida. Durante tres días\, las azoteas se convertirán en espacios para respirar\, hacer deporte\, intercambiar y “reverdecer” al aire libre.\nEste evento único invita al público a explorar y redescubrir las terrazas de París y el Gran París para revelar su potencial de innovación social y ambiental. \nEste año\, el Paris Rooftop Festival contará con una decena de azoteas parisinas participantes con actividades y espacios de debate sobre el tema “Moverse\, respirar aire fresco”.
URL:https://explorafrancia.mx/event/paris-rooftop-days/
LOCATION:Paris\, París\, France
CATEGORIES:Actividades al aire libre
ATTACH;FMTTYPE=image/jpeg:https://explorafrancia.mx/wp-content/uploads/2025/08/Paris-Rooftop-Days-Edition-2023-Credit-Photo-Rey-Raya-5-scaled-e1754506599121.jpg
END:VEVENT
BEGIN:VEVENT
DTSTART;VALUE=DATE:20250920
DTEND;VALUE=DATE:20250922
DTSTAMP:20260423T094102
CREATED:20250805T150630Z
LAST-MODIFIED:20250805T170647Z
UID:4881-1758326400-1758499199@explorafrancia.mx
SUMMARY:Jornadas Europeas del Patrimonio
DESCRIPTION:En 2025\, las Jornadas Europeas del Patrimonio se celebrarán los días 19\, 20 y 21 de septiembre.\nEl patrimonio arquitectónico francés será el centro de atención durante esta 42ª edición. \nEl patrimonio arquitectónico da forma a nuestros paisajes y a nuestra memoria cultural. Según la definición de la Academia Francesa\, la arquitectura es “el arte de construir\, organizar o decorar edificios“. El tema de este año se centrará así en los logros artísticos y técnicos de la arquitectura que\, más allá de sus funciones y usos que evolucionan con el tiempo\, a menudo constituyen un importante punto de referencia tanto desde el punto de vista de la historia local\, nacional y europea como de la memoria colectiva. \nEsta nueva edición será una oportunidad para celebrar el trabajo de los arquitectos. Los de ayer y los de hoy.
URL:https://explorafrancia.mx/event/jornadas-europeas-del-patrimonio/
CATEGORIES:Patrimonio
ATTACH;FMTTYPE=image/png:https://explorafrancia.mx/wp-content/uploads/2025/08/JEP_25.png
END:VEVENT
BEGIN:VEVENT
DTSTART;VALUE=DATE:20250905
DTEND;VALUE=DATE:20250915
DTSTAMP:20260423T094102
CREATED:20250822T143559Z
LAST-MODIFIED:20251007T162313Z
UID:5242-1757030400-1757894399@explorafrancia.mx
SUMMARY:Festival de Cine Americano de Deauville
DESCRIPTION:La edición de 2025 del Festival de Cine Americano de Deauville se celebrará del 5 al 14 de septiembre. \nEl Festival destaca la diversidad del cine estadounidense\, desde las grandes producciones de Hollywood hasta las películas independientes. Es el único festival europeo de esta escala que abre sus puertas al público. Cada año\, másde cien proyecciones se presentan en tres sedes: el Centro Internacional de Deauville\, el Cine Casino Barrière y el Cine Morny. \nEl Festival de Cine Americano es\, después del de Cannes\, el festival de cine más importante en Francia.
URL:https://explorafrancia.mx/event/festival-de-cine-americano-de-deauville/
LOCATION:Deauville\, 14800\, France
CATEGORIES:Arte y Cultura,Cine
ATTACH;FMTTYPE=image/png:https://explorafrancia.mx/wp-content/uploads/2025/08/Deauville-festival-du-film-americain.png
END:VEVENT
BEGIN:VEVENT
DTSTART;VALUE=DATE:20250801
DTEND;VALUE=DATE:20250804
DTSTAMP:20260423T094102
CREATED:20250624T163558Z
LAST-MODIFIED:20250805T163859Z
UID:4527-1754006400-1754265599@explorafrancia.mx
SUMMARY:Noches de las Estrellas
DESCRIPTION:Las Noches de las Estrellas tendrán lugar los días 1\, 2 y 3 de agosto de 2025. \nLos océanos del cielo será el tema este año de estas noches organizadas por la Asociación Francesa de Astronomía. \nDesde 1991\, las Nuits des étoiles han sido organizadas por equipos de astrónomos voluntarios. En 2025 vuelven a ser más de 300: clubes de astronomía\, planetarios\, asociaciones\, oficinas de turismo\, ayuntamientos\, etc.\, que participarán y ofrecerán más de 550 eventos en todo Francia. 
URL:https://explorafrancia.mx/event/noches-de-las-estrellas/
CATEGORIES:Actividades al aire libre,Ciencia
ATTACH;FMTTYPE=image/jpeg:https://explorafrancia.mx/wp-content/uploads/2025/02/La-nuit-des-etoiles-2025-FB-Commune-Charmes-Aisne-1024x538-1-e1747927569249.jpg
END:VEVENT
BEGIN:VEVENT
DTSTART;VALUE=DATE:20250705
DTEND;VALUE=DATE:20250901
DTSTAMP:20260423T094102
CREATED:20250624T174735Z
LAST-MODIFIED:20250805T163906Z
UID:4540-1751673600-1756684799@explorafrancia.mx
SUMMARY:París Playas 2025
DESCRIPTION:Paris Plages o París Playas regresa este verano\, del 5 de julio al 31 de agosto\, con una temática: ¡Brasil! Por primera vez\, el evento se inscribe en una temporada intercultural.\n\n\n\n\nPatrocinado por la estrella del fútbol brasileño Raï\, Paris Plages combinara relajación\, deportes\, diversión\, con la cultura brasileña. \nDurante dos meses\, proyecciones de películas\, gastronomía brasileña\, exposiciones\, sesiones de DJ\, talleres participativos… compartirán la programación de la nueva edición de Paris Plages.\n\n\n\nNadar en la Sena\n\n\n\nEste verano\, parisinos y visitantes redescubrirán el placer de nadar en el Sena\, 100 años después de su prohibición. Se crearán tres zonas de baño naturales para nadar o simplemente relajarse: en Bras Marie (París Centro)\, Bras de Grenelle (París 15°) y Quai de Bercy (París 12°). \n\n\n\nFnac Live\, de vuelta\n\n\nEl gran evento musical del verano\, coorganizado por Fnac y el Ayuntamiento de París\, regresa del miércoles 2 al viernes 4 de julio. El festival Fnac Live Paris ofrecerá\, como cada año\, unos treinta conciertos gratuitos. St. Vincent\,  Miossec\, Phoenix\, Eddy de Pretto\, Olivia Ruiz… son unos de los artistas programados.
URL:https://explorafrancia.mx/event/paris-playas-2025/
LOCATION:Paris\, París\, France
CATEGORIES:Actividades al aire libre
ATTACH;FMTTYPE=image/jpeg:https://explorafrancia.mx/wp-content/uploads/2025/02/Paris-Plages-ptt.jpg
END:VEVENT
BEGIN:VEVENT
DTSTART;VALUE=DATE:20250705
DTEND;VALUE=DATE:20250728
DTSTAMP:20260423T094102
CREATED:20250623T233729Z
LAST-MODIFIED:20250805T163916Z
UID:4282-1751673600-1753660799@explorafrancia.mx
SUMMARY:Tour de Francia 2025
DESCRIPTION:El sábado 5 de julio\, 184 corredores repartidos en 23 equipos vivirán el Grand Départ (el gran inicio) del Tour de France 2025\, en Lille. La carrera finalizará el 27 de julio en Paris. \nLa 112a edición será 100 % francesa: con 21 etapas no saldrá este año de sus fronteras y visitará en total 11 regiones y 34 departamentos franceses. \nEl recorrido atrae cada año a más de 10 millones de espectadores a lo largo de las carreteras francesas. Ser parte de este evento es una oportunidad única para vivir de cerca la emoción de los ciclistas y sus aficionados\, mientras se descubren algunos de los paisajes más hermosos de Francia.
URL:https://explorafrancia.mx/event/tour-de-francia-2025/
CATEGORIES:Actividades al aire libre,Deporte
ATTACH;FMTTYPE=image/jpeg:https://explorafrancia.mx/wp-content/uploads/2025/06/Tour-de-Francia-2025-Portada.jpg
END:VEVENT
BEGIN:VEVENT
DTSTART;VALUE=DATE:20250704
DTEND;VALUE=DATE:20250825
DTSTAMP:20260423T094102
CREATED:20250624T171524Z
LAST-MODIFIED:20250805T163921Z
UID:4532-1751587200-1756079999@explorafrancia.mx
SUMMARY:Festival de Arte Pirotécnico de Cannes
DESCRIPTION:Desde 1967\, el cielo de Cannes se ilumina cada verano para celebrar la excelencia pirotécnica.\n\nEntre tradición e innovación\, el Festival de Arte Pirotécnico ilumina la bahía\, atrayendo a miles de espectadores de todo el mundo.\nSeis firmas pirotécnicas de seis países diferentes competirán para ofrecer espectáculos que combinan fuego\, música y emoción.
URL:https://explorafrancia.mx/event/festival-de-arte-pirotecnico-de-cannes/
LOCATION:La Baie de Cannes\, Cannes\, 06400\, France
CATEGORIES:Actividades al aire libre,Espectáculo
ATTACH;FMTTYPE=image/png:https://explorafrancia.mx/wp-content/uploads/2025/02/Captura-de-pantalla-2025-06-12-161002.png
END:VEVENT
END:VCALENDAR